BEGIN:VCALENDAR
VERSION:2.0
PRODID:-//wp-events-plugin.com//7.2.3.1//EN
TZID:Europe/Paris
X-WR-TIMEZONE:Europe/Paris
BEGIN:VEVENT
UID:115002@l-agenda.ch
DTSTART;TZID=Europe/Paris:20250405T191500
DTEND;TZID=Europe/Paris:20250405T191500
DTSTAMP:20250321T165459Z
URL:https://www.l-agenda.ch/evenements/zoso-b-a-c-a-s-strawberry-flair-202
 5-04-05/
SUMMARY:ZoSo / B.A.C.A.S. / Strawberry Flair
DESCRIPTION:Groupes en hommages à Led Zepplin et AC/DC
ATTACH;FMTTYPE=image/jpeg:https://www.l-agenda.ch/wp-content/uploads/2025/
 03/ZoSo-B.A.C.A.S.-Strawberry-Flair.jpg
CATEGORIES:Musique actuelle,Rock | Metal | Punk
LOCATION:Alhambra\, Rue de la Rôtisserie 10\, Genève\, GE\, 1204\, Genèv
 e\, Suisse
GEO:46.202602;6.146651
X-APPLE-STRUCTURED-LOCATION;VALUE=URI;X-ADDRESS=Rue de la Rôtisserie 10\, 
 Genève\, GE\, 1204\, Genève\, Suisse;X-APPLE-RADIUS=100;X-TITLE=Alhambra
 :geo:46.202602,6.146651
END:VEVENT
BEGIN:VTIMEZONE
TZID:Europe/Paris
X-LIC-LOCATION:Europe/Paris
BEGIN:DAYLIGHT
DTSTART:20250330T030000
TZOFFSETFROM:+0100
TZOFFSETTO:+0200
TZNAME:CEST
END:DAYLIGHT
END:VTIMEZONE
END:VCALENDAR