BEGIN:VCALENDAR
VERSION:2.0
PRODID:-//wp-events-plugin.com//7.2.3.1//EN
TZID:Europe/Paris
X-WR-TIMEZONE:Europe/Paris
BEGIN:VEVENT
UID:114549@l-agenda.ch
DTSTART;TZID=Europe/Paris;VALUE=DATE:20260502
DTEND;TZID=Europe/Paris;VALUE=DATE:20260503
DTSTAMP:20260227T082615Z
URL:https://www.l-agenda.ch/evenements/week-end-musical-de-pully-15/
SUMMARY:Week-End Musical de Pully
DESCRIPTION:Tournoi de piano et fanfare funk sur l'esplanade du Prieuré
ATTACH;FMTTYPE=image/jpeg:https://www.l-agenda.ch/wp-content/uploads/2025/
 02/Sneaky-Funk-Squad.jpg
CATEGORIES:Festival,Disco | Funk,Musique actuelle,Orchestre | Ensemble |
 Instrument | Chambre
LOCATION:Église du Prieuré\, Avenue du Prieuré 2C\, Pully\, VD\, 1009\, 
 Lavaux-Oron\, Suisse
GEO:46.509175;6.662132
X-APPLE-STRUCTURED-LOCATION;VALUE=URI;X-ADDRESS=Avenue du Prieuré 2C\, Pul
 ly\, VD\, 1009\, Lavaux-Oron\, Suisse;X-APPLE-RADIUS=100;X-TITLE=Église d
 u Prieuré:geo:46.509175,6.662132
END:VEVENT
BEGIN:VTIMEZONE
TZID:Europe/Paris
X-LIC-LOCATION:Europe/Paris
BEGIN:DAYLIGHT
DTSTART:20260329T030000
TZOFFSETFROM:+0100
TZOFFSETTO:+0200
TZNAME:CEST
END:DAYLIGHT
END:VTIMEZONE
END:VCALENDAR