BEGIN:VCALENDAR
VERSION:2.0
PRODID:-//wp-events-plugin.com//7.2.3.1//EN
TZID:Europe/Paris
X-WR-TIMEZONE:Europe/Paris
BEGIN:VEVENT
UID:120038@l-agenda.ch
DTSTART;TZID=Europe/Paris:20260610T190000
DTEND;TZID=Europe/Paris:20260611T190000
DTSTAMP:20260202T143229Z
URL:https://www.l-agenda.ch/evenements/wasted-land-2/
SUMMARY:Wasted land
DESCRIPTION:Performance musicale et chantée\, plaidoyer pour une écologie
  décoloniale
ATTACH;FMTTYPE=image/jpeg:https://www.l-agenda.ch/wp-content/uploads/2025/
 02/Wasted-land.webp
CATEGORIES:Comédie musicale | Spectacle musical,Documentaire | Documenté
 | Autofiction,Théâtre
LOCATION:*Maison* Saint Gervais\, Rue du Temple 5\, Genève\, GE\, 1201\, G
 enève\, Suisse
GEO:46.206227;6.140615
X-APPLE-STRUCTURED-LOCATION;VALUE=URI;X-ADDRESS=Rue du Temple 5\, Genève\,
  GE\, 1201\, Genève\, Suisse;X-APPLE-RADIUS=100;X-TITLE=*Maison* Saint Ge
 rvais:geo:46.206227,6.140615
END:VEVENT
BEGIN:VTIMEZONE
TZID:Europe/Paris
X-LIC-LOCATION:Europe/Paris
BEGIN:DAYLIGHT
DTSTART:20260329T030000
TZOFFSETFROM:+0100
TZOFFSETTO:+0200
TZNAME:CEST
END:DAYLIGHT
END:VTIMEZONE
END:VCALENDAR