BEGIN:VCALENDAR
VERSION:2.0
PRODID:-//wp-events-plugin.com//7.2.3.1//EN
TZID:Europe/Paris
X-WR-TIMEZONE:Europe/Paris
BEGIN:VEVENT
UID:119135@l-agenda.ch
DTSTART;TZID=Europe/Paris:20260205T200000
DTEND;TZID=Europe/Paris:20260205T200000
DTSTAMP:20251126T175806Z
URL:https://www.l-agenda.ch/evenements/video-club-2026-01-22-2026-01-29-20
 26-02-05/
SUMMARY:Vidéo Club
DESCRIPTION:Un couple qui vit ensemble depuis 25 réalise tout à coup qu'i
 l est sous vidéo surveillance depuis des mois
ATTACH;FMTTYPE=image/jpeg:https://www.l-agenda.ch/wp-content/uploads/2024/
 09/Video-Club.webp
CATEGORIES:Comédie,Théâtre
LOCATION:Théâtre Alchimic\, Avenue Industrielle 10\, Carouge\, GE\, 1227\
 , Genève\, Suisse
GEO:46.189499;6.134545
X-APPLE-STRUCTURED-LOCATION;VALUE=URI;X-ADDRESS=Avenue Industrielle 10\, Ca
 rouge\, GE\, 1227\, Genève\, Suisse;X-APPLE-RADIUS=100;X-TITLE=Théâtre 
 Alchimic:geo:46.189499,6.134545
END:VEVENT
BEGIN:VTIMEZONE
TZID:Europe/Paris
X-LIC-LOCATION:Europe/Paris
BEGIN:STANDARD
DTSTART:20251026T020000
TZOFFSETFROM:+0200
TZOFFSETTO:+0100
TZNAME:CET
END:STANDARD
END:VTIMEZONE
END:VCALENDAR