BEGIN:VCALENDAR
VERSION:2.0
PRODID:-//wp-events-plugin.com//7.2.3.1//EN
TZID:Europe/Paris
X-WR-TIMEZONE:Europe/Paris
BEGIN:VEVENT
UID:120056@l-agenda.ch
DTSTART;TZID=Europe/Paris:20260211T180000
DTEND;TZID=Europe/Paris:20260211T180000
DTSTAMP:20260209T102311Z
URL:https://www.l-agenda.ch/evenements/vernissage-du-roman-la-fille-de-sel
 /
SUMMARY:Vernissage du roman "La Fille de sel"
DESCRIPTION:Rencontre-lecture\, avec l'autrice Sonia Zoran
ATTACH;FMTTYPE=image/jpeg:https://www.l-agenda.ch/wp-content/uploads/2026/
 02/La-fille-de-sel.jpg
CATEGORIES:Littérature | Conte | Lecture,Vernissage
LOCATION:Librairie La Fontaine\, Rue du Lac 47\, Vevey\, VD\, 1800\, Lavaux
 -Oron\, Suisse
X-APPLE-STRUCTURED-LOCATION;VALUE=URI;X-ADDRESS=Rue du Lac 47\, Vevey\, VD\
 , 1800\, Lavaux-Oron\, Suisse;X-APPLE-RADIUS=100;X-TITLE=Librairie La Font
 aine:geo:0,0
END:VEVENT
BEGIN:VTIMEZONE
TZID:Europe/Paris
X-LIC-LOCATION:Europe/Paris
BEGIN:STANDARD
DTSTART:20251026T020000
TZOFFSETFROM:+0200
TZOFFSETTO:+0100
TZNAME:CET
END:STANDARD
END:VTIMEZONE
END:VCALENDAR