BEGIN:VCALENDAR
VERSION:2.0
PRODID:-//wp-events-plugin.com//7.2.3.1//EN
TZID:Europe/Paris
X-WR-TIMEZONE:Europe/Paris
BEGIN:VEVENT
UID:115372@l-agenda.ch
DTSTART;TZID=Europe/Paris:20250605T170000
DTEND;TZID=Europe/Paris:20250605T170000
DTSTAMP:20250602T080433Z
URL:https://www.l-agenda.ch/evenements/vernissage-de-lexpo-juno/
SUMMARY:Vernissage de l'expo "JUNO"
DESCRIPTION:Exploration contemporaine du souvenir et de l’oubli
ATTACH;FMTTYPE=image/jpeg:https://www.l-agenda.ch/wp-content/uploads/2025/
 05/JUNO.png
CATEGORIES:Exposition temporaire,Vernissage
LOCATION:Archives Sensibles\, Avenue de Tivoli 14\, Lausanne\, VD\, 1007\, 
 Lausanne\, Suisse
GEO:46.521527;6.62129
X-APPLE-STRUCTURED-LOCATION;VALUE=URI;X-ADDRESS=Avenue de Tivoli 14\, Lausa
 nne\, VD\, 1007\, Lausanne\, Suisse;X-APPLE-RADIUS=100;X-TITLE=Archives Se
 nsibles:geo:46.521527,6.62129
END:VEVENT
BEGIN:VTIMEZONE
TZID:Europe/Paris
X-LIC-LOCATION:Europe/Paris
BEGIN:DAYLIGHT
DTSTART:20250330T030000
TZOFFSETFROM:+0100
TZOFFSETTO:+0200
TZNAME:CEST
END:DAYLIGHT
END:VTIMEZONE
END:VCALENDAR