BEGIN:VCALENDAR
VERSION:2.0
PRODID:-//wp-events-plugin.com//7.2.3.1//EN
TZID:Europe/Paris
X-WR-TIMEZONE:Europe/Paris
BEGIN:VEVENT
UID:119791@l-agenda.ch
DTSTART;TZID=Europe/Paris:20260428T180000
DTEND;TZID=Europe/Paris:20260428T180000
DTSTAMP:20260115T113441Z
URL:https://www.l-agenda.ch/evenements/vernissage-de-lexpo-enfantillages-e
 t-bizarreries-vertige-dune-collection/
SUMMARY:Vernissage de l'expo "Enfantillages et bizarreries : vertige d’un
 e collection"
DESCRIPTION:Collection de bibelots\, colifichets\, breloques\, gadgets\, pe
 tits jouets ou porte-bonheurs\, entre objets banals du quotidien et œuvre
 s d’art.
ATTACH;FMTTYPE=image/jpeg:https://www.l-agenda.ch/wp-content/uploads/2026/
 01/Enfantillages-et-bizarreries.webp
CATEGORIES:Vernissage,Exposition temporaire
LOCATION:L'Arcade\, Rue de Chantepoulet 1\, Genève\, GE\, 1201\, Genève\,
  Suisse
X-APPLE-STRUCTURED-LOCATION;VALUE=URI;X-ADDRESS=Rue de Chantepoulet 1\, Gen
 ève\, GE\, 1201\, Genève\, Suisse;X-APPLE-RADIUS=100;X-TITLE=L'Arcade:ge
 o:0,0
END:VEVENT
BEGIN:VTIMEZONE
TZID:Europe/Paris
X-LIC-LOCATION:Europe/Paris
BEGIN:DAYLIGHT
DTSTART:20260329T030000
TZOFFSETFROM:+0100
TZOFFSETTO:+0200
TZNAME:CEST
END:DAYLIGHT
END:VTIMEZONE
END:VCALENDAR