BEGIN:VCALENDAR
VERSION:2.0
PRODID:-//wp-events-plugin.com//7.2.3.1//EN
TZID:Europe/Paris
X-WR-TIMEZONE:Europe/Paris
BEGIN:VEVENT
UID:119793@l-agenda.ch
DTSTART;TZID=Europe/Paris:20260707T180000
DTEND;TZID=Europe/Paris:20260707T180000
DTSTAMP:20260115T113857Z
URL:https://www.l-agenda.ch/evenements/vernissage-de-faab-g/
SUMMARY:Vernissage de l'expo "Ce qui dérive résiste encore"
DESCRIPTION:Exploration de formes de résistances\,  narration nourries pa
 r des perspectives décoloniales et transféministes.
ATTACH;FMTTYPE=image/jpeg:https://www.l-agenda.ch/wp-content/uploads/2026/
 01/faab-g.webp
CATEGORIES:Vernissage,Exposition temporaire
LOCATION:L'Arcade\, Rue de Chantepoulet 1\, Genève\, GE\, 1201\, Genève\,
  Suisse
X-APPLE-STRUCTURED-LOCATION;VALUE=URI;X-ADDRESS=Rue de Chantepoulet 1\, Gen
 ève\, GE\, 1201\, Genève\, Suisse;X-APPLE-RADIUS=100;X-TITLE=L'Arcade:ge
 o:0,0
END:VEVENT
BEGIN:VTIMEZONE
TZID:Europe/Paris
X-LIC-LOCATION:Europe/Paris
BEGIN:DAYLIGHT
DTSTART:20260329T030000
TZOFFSETFROM:+0100
TZOFFSETTO:+0200
TZNAME:CEST
END:DAYLIGHT
END:VTIMEZONE
END:VCALENDAR