BEGIN:VCALENDAR
VERSION:2.0
PRODID:-//wp-events-plugin.com//7.2.3.1//EN
TZID:Europe/Paris
X-WR-TIMEZONE:Europe/Paris
BEGIN:VEVENT
UID:106001@l-agenda.ch
DTSTART;TZID=Europe/Paris:20240525T143000
DTEND;TZID=Europe/Paris:20240525T143000
DTSTAMP:20240319T102610Z
URL:https://www.l-agenda.ch/evenements/une-vie-de-facteur/
SUMMARY:Une vie de facteur
DESCRIPTION:L'évolution de la profession
ATTACH;FMTTYPE=image/jpeg:https://www.l-agenda.ch/wp-content/uploads/2024/
 03/2024.05.25_VieFacteur_01.jpg
CATEGORIES:Théâtre
LOCATION:Bibliothèque de la Cité\, Place des Trois-Perdrix 5\, Genève\, 
 GE\, 1204\, Genève\, Suisse
GEO:46.20276;6.145112
X-APPLE-STRUCTURED-LOCATION;VALUE=URI;X-ADDRESS=Place des Trois-Perdrix 5\,
  Genève\, GE\, 1204\, Genève\, Suisse;X-APPLE-RADIUS=100;X-TITLE=Bibliot
 hèque de la Cité:geo:46.20276,6.145112
END:VEVENT
BEGIN:VTIMEZONE
TZID:Europe/Paris
X-LIC-LOCATION:Europe/Paris
BEGIN:DAYLIGHT
DTSTART:20240331T030000
TZOFFSETFROM:+0100
TZOFFSETTO:+0200
TZNAME:CEST
END:DAYLIGHT
END:VTIMEZONE
END:VCALENDAR