BEGIN:VCALENDAR
VERSION:2.0
PRODID:-//wp-events-plugin.com//7.2.3.1//EN
TZID:Europe/Paris
X-WR-TIMEZONE:Europe/Paris
BEGIN:VEVENT
UID:71229@l-agenda.ch
DTSTART;TZID=Europe/Paris:20220330T203000
DTEND;TZID=Europe/Paris:20220331T203000
DTSTAMP:20211223T135910Z
URL:https://www.l-agenda.ch/event-recurring/un-chalet-a-gstaad/
SUMMARY:Un chalet à Gstaad
DESCRIPTION:Comédie\, dès 12 ans
ATTACH;FMTTYPE=image/jpeg:https://www.l-agenda.ch/wp-content/uploads/2021/
 12/gstaad.jpg
CATEGORIES:Comédie,Théâtre
LOCATION:Théâtre du Léman\, Quai du Mont-Blanc 18\, Genève\, GE\, 1201\
 , Genève\, Suisse
GEO:46.210479;6.151682
X-APPLE-STRUCTURED-LOCATION;VALUE=URI;X-ADDRESS=Quai du Mont-Blanc 18\, Gen
 ève\, GE\, 1201\, Genève\, Suisse;X-APPLE-RADIUS=100;X-TITLE=Théâtre d
 u Léman:geo:46.210479,6.151682
END:VEVENT
BEGIN:VTIMEZONE
TZID:Europe/Paris
X-LIC-LOCATION:Europe/Paris
BEGIN:DAYLIGHT
DTSTART:20220327T030000
TZOFFSETFROM:+0100
TZOFFSETTO:+0200
TZNAME:CEST
END:DAYLIGHT
END:VTIMEZONE
END:VCALENDAR