BEGIN:VCALENDAR
VERSION:2.0
PRODID:-//wp-events-plugin.com//7.2.3.1//EN
TZID:Europe/Paris
X-WR-TIMEZONE:Europe/Paris
BEGIN:VEVENT
UID:99373@l-agenda.ch
DTSTART;TZID=Europe/Paris;VALUE=DATE:20241101
DTEND;TZID=Europe/Paris;VALUE=DATE:20241103
DTSTAMP:20241101T162137Z
URL:https://www.l-agenda.ch/evenements/toussaints-festival-2-2023-11-04/
SUMMARY:Toussaint’s Festival
DESCRIPTION:Mini édition « Au-delà des murs »
ATTACH;FMTTYPE=image/jpeg:https://www.l-agenda.ch/wp-content/uploads/2023/
 09/Toussaint.jpg
CATEGORIES:Conférence | Rencontre,Exposition
 temporaire,Festival,Littérature | Conte | Lecture,Orchestre | Ensemble |
 Instrument | Chambre,Théâtre
LOCATION:Espace Maurice Zundel\, Boulevard de Grancy 19\, Lausanne\, VD\, 1
 006\, Lausanne\, Suisse
GEO:46.515032;6.629429
X-APPLE-STRUCTURED-LOCATION;VALUE=URI;X-ADDRESS=Boulevard de Grancy 19\, La
 usanne\, VD\, 1006\, Lausanne\, Suisse;X-APPLE-RADIUS=100;X-TITLE=Espace M
 aurice Zundel:geo:46.515032,6.629429
END:VEVENT
BEGIN:VTIMEZONE
TZID:Europe/Paris
X-LIC-LOCATION:Europe/Paris
BEGIN:STANDARD
DTSTART:20241027T020000
TZOFFSETFROM:+0200
TZOFFSETTO:+0100
TZNAME:CET
END:STANDARD
END:VTIMEZONE
END:VCALENDAR