BEGIN:VCALENDAR
VERSION:2.0
PRODID:-//wp-events-plugin.com//7.2.3.1//EN
TZID:Europe/Paris
X-WR-TIMEZONE:Europe/Paris
BEGIN:VEVENT
UID:106810@l-agenda.ch
DTSTART;TZID=Europe/Paris;VALUE=DATE:20240305
DTEND;TZID=Europe/Paris;VALUE=DATE:20240610
DTSTAMP:20240401T190455Z
URL:https://www.l-agenda.ch/evenements/tishan-hsu/
SUMMARY:Tishan Hsu
DESCRIPTION:Art contemporain
ATTACH;FMTTYPE=image/jpeg:https://www.l-agenda.ch/wp-content/uploads/2024/
 03/yw77psqb.jpg
CATEGORIES:Exposition temporaire
LOCATION:MAMCO - Musée d'Art Moderne et Contemporain\, Rue des Vieux-Grena
 diers 10\, Genève\, GE\, 1205\, Genève\, Suisse
GEO:46.198933;6.138171
X-APPLE-STRUCTURED-LOCATION;VALUE=URI;X-ADDRESS=Rue des Vieux-Grenadiers 10
 \, Genève\, GE\, 1205\, Genève\, Suisse;X-APPLE-RADIUS=100;X-TITLE=MAMCO
  - Musée d'Art Moderne et Contemporain:geo:46.198933,6.138171
END:VEVENT
BEGIN:VTIMEZONE
TZID:Europe/Paris
X-LIC-LOCATION:Europe/Paris
BEGIN:STANDARD
DTSTART:20231029T020000
TZOFFSETFROM:+0200
TZOFFSETTO:+0100
TZNAME:CET
END:STANDARD
BEGIN:DAYLIGHT
DTSTART:20240331T030000
TZOFFSETFROM:+0100
TZOFFSETTO:+0200
TZNAME:CEST
END:DAYLIGHT
END:VTIMEZONE
END:VCALENDAR