BEGIN:VCALENDAR
VERSION:2.0
PRODID:-//wp-events-plugin.com//7.2.3.1//EN
TZID:Europe/Paris
X-WR-TIMEZONE:Europe/Paris
BEGIN:VEVENT
UID:119303@l-agenda.ch
DTSTART;TZID=Europe/Paris:20260527T190000
DTEND;TZID=Europe/Paris:20260528T190000
DTSTAMP:20260202T152529Z
URL:https://www.l-agenda.ch/evenements/tiphanie-bovay-klameth-paix-5/
SUMMARY:Tiphanie Bovay-Klameth - Paix
DESCRIPTION:One-woman-show humoristique documentaire qui interroge la dynam
 ique de groupe
ATTACH;FMTTYPE=image/jpeg:https://www.l-agenda.ch/wp-content/uploads/2025/
 10/Tiphanie-Bovay-Klameth.jpg
CATEGORIES:Théâtre,Documentaire | Documenté | Autofiction,Improvisation
 | Humour | Stand-up
LOCATION:*Maison* Saint Gervais\, Rue du Temple 5\, Genève\, GE\, 1201\, G
 enève\, Suisse
GEO:46.206227;6.140615
X-APPLE-STRUCTURED-LOCATION;VALUE=URI;X-ADDRESS=Rue du Temple 5\, Genève\,
  GE\, 1201\, Genève\, Suisse;X-APPLE-RADIUS=100;X-TITLE=*Maison* Saint Ge
 rvais:geo:46.206227,6.140615
END:VEVENT
BEGIN:VTIMEZONE
TZID:Europe/Paris
X-LIC-LOCATION:Europe/Paris
BEGIN:DAYLIGHT
DTSTART:20260329T030000
TZOFFSETFROM:+0100
TZOFFSETTO:+0200
TZNAME:CEST
END:DAYLIGHT
END:VTIMEZONE
END:VCALENDAR