BEGIN:VCALENDAR
VERSION:2.0
PRODID:-//wp-events-plugin.com//7.2.3.1//EN
TZID:Europe/Paris
X-WR-TIMEZONE:Europe/Paris
BEGIN:VEVENT
UID:119308@l-agenda.ch
DTSTART;TZID=Europe/Paris:20260207T190000
DTEND;TZID=Europe/Paris:20260207T190000
DTSTAMP:20251204T130046Z
URL:https://www.l-agenda.ch/evenements/tiphanie-bovay-klameth-paix-10/
SUMMARY:Tiphanie Bovay-Klameth - Paix
DESCRIPTION:One-woman-show humoristique documentaire qui interroge la dynam
 ique de groupe
ATTACH;FMTTYPE=image/jpeg:https://www.l-agenda.ch/wp-content/uploads/2025/
 10/Tiphanie-Bovay-Klameth.jpg
CATEGORIES:Théâtre,Documentaire | Documenté | Autofiction,Improvisation
 | Humour | Stand-up
LOCATION:Arsenic\, Rue de Genève 57\, Lausanne\, VD\, 1004\, Lausanne\, Su
 isse
GEO:46.522682;6.621722
X-APPLE-STRUCTURED-LOCATION;VALUE=URI;X-ADDRESS=Rue de Genève 57\, Lausann
 e\, VD\, 1004\, Lausanne\, Suisse;X-APPLE-RADIUS=100;X-TITLE=Arsenic:geo:4
 6.522682,6.621722
END:VEVENT
BEGIN:VTIMEZONE
TZID:Europe/Paris
X-LIC-LOCATION:Europe/Paris
BEGIN:STANDARD
DTSTART:20251026T020000
TZOFFSETFROM:+0200
TZOFFSETTO:+0100
TZNAME:CET
END:STANDARD
END:VTIMEZONE
END:VCALENDAR