BEGIN:VCALENDAR
VERSION:2.0
PRODID:-//wp-events-plugin.com//7.2.3.1//EN
TZID:Europe/Paris
X-WR-TIMEZONE:Europe/Paris
BEGIN:VEVENT
UID:106835@l-agenda.ch
DTSTART;TZID=Europe/Paris:20260610T213000
DTEND;TZID=Europe/Paris:20260610T213000
DTSTAMP:20260414T144611Z
URL:https://www.l-agenda.ch/evenements/thomas-angelvy/
SUMMARY:Thomas Angelvy
DESCRIPTION:Seul en scène humoristique
ATTACH;FMTTYPE=image/jpeg:https://www.l-agenda.ch/wp-content/uploads/2024/
 03/1694.jpg
CATEGORIES:Festival,Improvisation | Humour | Stand-up,Théâtre
LOCATION:Théâtre de Beaulieu\, Avenue des Bergières 10\, Lausanne\, VD\,
  1004\, Lausanne\, Suisse
GEO:46.529435;6.623158
X-APPLE-STRUCTURED-LOCATION;VALUE=URI;X-ADDRESS=Avenue des Bergières 10\, 
 Lausanne\, VD\, 1004\, Lausanne\, Suisse;X-APPLE-RADIUS=100;X-TITLE=Théâ
 tre de Beaulieu:geo:46.529435,6.623158
END:VEVENT
BEGIN:VTIMEZONE
TZID:Europe/Paris
X-LIC-LOCATION:Europe/Paris
BEGIN:DAYLIGHT
DTSTART:20260329T030000
TZOFFSETFROM:+0100
TZOFFSETTO:+0200
TZNAME:CEST
END:DAYLIGHT
END:VTIMEZONE
END:VCALENDAR