BEGIN:VCALENDAR
VERSION:2.0
PRODID:-//wp-events-plugin.com//7.2.3.1//EN
TZID:Europe/Paris
X-WR-TIMEZONE:Europe/Paris
BEGIN:VEVENT
UID:106087@l-agenda.ch
DTSTART;TZID=Europe/Paris:20240622T193000
DTEND;TZID=Europe/Paris:20240622T193000
DTSTAMP:20240322T154004Z
URL:https://www.l-agenda.ch/evenements/the-turn-of-the-screw/
SUMMARY:The Turn of the Screw
DESCRIPTION:Histoire lyrique de Britten
ATTACH;FMTTYPE=image/jpeg:https://www.l-agenda.ch/wp-content/uploads/2024/
 03/the-turn-of-the-screw.png.webp
CATEGORIES:Classique,Opéra | Lyrique | Voix
LOCATION:La Cité Bleue\, Avenue de Miremont 46\, Genève\, GE\, 1206\, Gen
 ève\, Suisse
GEO:46.186716;6.158953
X-APPLE-STRUCTURED-LOCATION;VALUE=URI;X-ADDRESS=Avenue de Miremont 46\, Gen
 ève\, GE\, 1206\, Genève\, Suisse;X-APPLE-RADIUS=100;X-TITLE=La Cité Bl
 eue:geo:46.186716,6.158953
END:VEVENT
BEGIN:VTIMEZONE
TZID:Europe/Paris
X-LIC-LOCATION:Europe/Paris
BEGIN:DAYLIGHT
DTSTART:20240331T030000
TZOFFSETFROM:+0100
TZOFFSETTO:+0200
TZNAME:CEST
END:DAYLIGHT
END:VTIMEZONE
END:VCALENDAR