BEGIN:VCALENDAR
VERSION:2.0
PRODID:-//wp-events-plugin.com//7.2.3.1//EN
TZID:Europe/Paris
X-WR-TIMEZONE:Europe/Paris
BEGIN:VEVENT
UID:115150@l-agenda.ch
DTSTART;TZID=Europe/Paris;VALUE=DATE:20250403
DTEND;TZID=Europe/Paris;VALUE=DATE:20250501
DTSTAMP:20250407T132817Z
URL:https://www.l-agenda.ch/evenements/the-shameless/
SUMMARY:The Shameless
DESCRIPTION:Film de Konstantin Bojanov (Suisse\, France\, Bulgarie\, Taïwa
 n)\n\nRenuka s’enfuit d’une maison close de Delhi après avoir poignar
 dé un policier. Elle se réfugie dans une communauté de prostituées d'u
 ne petite ville du nord de l’Inde. C’est là qu’elle fait la connais
 sance de Devika\, qui rêve de devenir rappeuse\, mais qui est condamnée 
 par sa caste à une vie de travailleuse du sexe devadasi. Une romance se t
 isse entre elles.\n\nDu 3 au 30 avril à la Cinémathèque Suisse\, Lausan
 ne\nDu 9 au 29 avril aux Cinémas du Grütli\, Genève\nDès le 9 avril au
  Cinéma Korso\, Fribourg\nDès le 9 avril au Cinepel\, Neuchâtel\nDès l
 e 10 avril au cinéma Lido\, Bienne\nLe 15 avril à l'Espace Noir\, St-Imi
 er
ATTACH;FMTTYPE=image/jpeg:https://www.l-agenda.ch/wp-content/uploads/2025/
 04/The-Shameless.jpg
CATEGORIES:Projection | Film
LOCATION:Divers lieux\, Divers lieux\, Suisse romande\, Suisse
GEO:46.647359;6.281477
X-APPLE-STRUCTURED-LOCATION;VALUE=URI;X-ADDRESS=Divers lieux\, Suisse roman
 de\, Suisse;X-APPLE-RADIUS=100;X-TITLE=Divers lieux:geo:46.647359,6.281477
END:VEVENT
BEGIN:VTIMEZONE
TZID:Europe/Paris
X-LIC-LOCATION:Europe/Paris
BEGIN:DAYLIGHT
DTSTART:20250330T030000
TZOFFSETFROM:+0100
TZOFFSETTO:+0200
TZNAME:CEST
END:DAYLIGHT
END:VTIMEZONE
END:VCALENDAR