BEGIN:VCALENDAR
VERSION:2.0
PRODID:-//wp-events-plugin.com//7.2.3.1//EN
TZID:Europe/Paris
X-WR-TIMEZONE:Europe/Paris
BEGIN:VEVENT
UID:115393@l-agenda.ch
DTSTART;TZID=Europe/Paris:20250702T210000
DTEND;TZID=Europe/Paris:20250702T210000
DTSTAMP:20250520T090533Z
URL:https://www.l-agenda.ch/evenements/the-lemon-twigs-2025-07-02/
SUMMARY:The Lemon Twigs
DESCRIPTION:Rock mêlant power pop\, glam et art rock inspiré des années 
 70 (New York)
ATTACH;FMTTYPE=image/jpeg:https://www.l-agenda.ch/wp-content/uploads/2025/
 05/The-Lemon-Twigs.jpg
CATEGORIES:Musique actuelle,Rock | Metal | Punk
LOCATION:Scène Ella Fitzgerald\, Avenue Parc La Grange \, Genève\, GE\, 1
 207\, Suisse
GEO:46.206543;6.167479
X-APPLE-STRUCTURED-LOCATION;VALUE=URI;X-ADDRESS=Avenue Parc La Grange \, Ge
 nève\, GE\, 1207\, Suisse;X-APPLE-RADIUS=100;X-TITLE=Scène Ella Fitzgera
 ld:geo:46.206543,6.167479
END:VEVENT
BEGIN:VTIMEZONE
TZID:Europe/Paris
X-LIC-LOCATION:Europe/Paris
BEGIN:DAYLIGHT
DTSTART:20250330T030000
TZOFFSETFROM:+0100
TZOFFSETTO:+0200
TZNAME:CEST
END:DAYLIGHT
END:VTIMEZONE
END:VCALENDAR