BEGIN:VCALENDAR
VERSION:2.0
PRODID:-//wp-events-plugin.com//7.2.3.1//EN
TZID:Europe/Paris
X-WR-TIMEZONE:Europe/Paris
BEGIN:VEVENT
UID:120348@l-agenda.ch
DTSTART;TZID=Europe/Paris;VALUE=DATE:20260321
DTEND;TZID=Europe/Paris;VALUE=DATE:20260412
DTSTAMP:20260223T180216Z
URL:https://www.l-agenda.ch/event-recurring/the-jury-experience/
SUMMARY:The Jury Experience
DESCRIPTION:Pièce immersive dans laquelle le ou la spectateur-ice incarne 
 un des membres du jury lors d’un procès
ATTACH;FMTTYPE=image/jpeg:https://www.l-agenda.ch/wp-content/uploads/2026/
 02/The-Jury-Experience.jpeg
CATEGORIES:Théâtre
LOCATION:Comédie de la gare / Uptown Geneva\, Rue de la Servette 2\, Genè
 ve\, GE\, 1201\, Genève\, Suisse
GEO:46.209514;6.139415
X-APPLE-STRUCTURED-LOCATION;VALUE=URI;X-ADDRESS=Rue de la Servette 2\, Gen
 ève\, GE\, 1201\, Genève\, Suisse;X-APPLE-RADIUS=100;X-TITLE=Comédie de
  la gare / Uptown Geneva:geo:46.209514,6.139415
END:VEVENT
BEGIN:VTIMEZONE
TZID:Europe/Paris
X-LIC-LOCATION:Europe/Paris
BEGIN:STANDARD
DTSTART:20251026T020000
TZOFFSETFROM:+0200
TZOFFSETTO:+0100
TZNAME:CET
END:STANDARD
BEGIN:DAYLIGHT
DTSTART:20260329T030000
TZOFFSETFROM:+0100
TZOFFSETTO:+0200
TZNAME:CEST
END:DAYLIGHT
END:VTIMEZONE
END:VCALENDAR