BEGIN:VCALENDAR
VERSION:2.0
PRODID:-//wp-events-plugin.com//7.2.3.1//EN
TZID:Europe/Paris
X-WR-TIMEZONE:Europe/Paris
BEGIN:VEVENT
UID:115401@l-agenda.ch
DTSTART;TZID=Europe/Paris:20260605T200000
DTEND;TZID=Europe/Paris:20260605T200000
DTSTAMP:20260330T123254Z
URL:https://www.l-agenda.ch/evenements/the-curious-bards/
SUMMARY:Les Ondes - The Curious Bards
DESCRIPTION:Bardes des temps modernes\, passionné-e-s par les traditions g
 aéliques\, celtes et scandinaves
ATTACH;FMTTYPE=image/jpeg:https://www.l-agenda.ch/wp-content/uploads/2025/
 05/The-Curious-Bards.jpg
CATEGORIES:Classique,Festival,Musique traditionnelle,Orchestre | Ensemble
 | Instrument | Chambre
LOCATION:Pavillon des Mangettes\, Route Boeuferrant-Sud 45\, Monthey\, VS\,
  1870\, Chablais\, Suisse
GEO:46.25242;6.948042
X-APPLE-STRUCTURED-LOCATION;VALUE=URI;X-ADDRESS=Route Boeuferrant-Sud 45\, 
 Monthey\, VS\, 1870\, Chablais\, Suisse;X-APPLE-RADIUS=100;X-TITLE=Pavillo
 n des Mangettes:geo:46.25242,6.948042
END:VEVENT
BEGIN:VTIMEZONE
TZID:Europe/Paris
X-LIC-LOCATION:Europe/Paris
BEGIN:DAYLIGHT
DTSTART:20260329T030000
TZOFFSETFROM:+0100
TZOFFSETTO:+0200
TZNAME:CEST
END:DAYLIGHT
END:VTIMEZONE
END:VCALENDAR