BEGIN:VCALENDAR
VERSION:2.0
PRODID:-//wp-events-plugin.com//7.2.3.1//EN
TZID:Europe/Paris
X-WR-TIMEZONE:Europe/Paris
BEGIN:VEVENT
UID:68568@l-agenda.ch
DTSTART;TZID=Europe/Paris:20220210T200000
DTEND;TZID=Europe/Paris:20220220T200000
DTSTAMP:20211118T143045Z
URL:https://www.l-agenda.ch/event-recurring/terreur/
SUMMARY:Terreur
DESCRIPTION:Procès participatif
CATEGORIES:Théâtre,Tragédie | Drame
LOCATION:Le Bateau-Lune\, Chemin de la Chapelle 10\, Cheseaux\, VD\, 1033\,
  Lausanne\, Suisse
GEO:46.580105;6.60475
X-APPLE-STRUCTURED-LOCATION;VALUE=URI;X-ADDRESS=Chemin de la Chapelle 10\, 
 Cheseaux\, VD\, 1033\, Lausanne\, Suisse;X-APPLE-RADIUS=100;X-TITLE=Le Bat
 eau-Lune:geo:46.580105,6.60475
END:VEVENT
BEGIN:VTIMEZONE
TZID:Europe/Paris
X-LIC-LOCATION:Europe/Paris
BEGIN:STANDARD
DTSTART:20211031T020000
TZOFFSETFROM:+0200
TZOFFSETTO:+0100
TZNAME:CET
END:STANDARD
END:VTIMEZONE
END:VCALENDAR