BEGIN:VCALENDAR
VERSION:2.0
PRODID:-//wp-events-plugin.com//7.2.3.1//EN
TZID:Europe/Paris
X-WR-TIMEZONE:Europe/Paris
BEGIN:VEVENT
UID:120476@l-agenda.ch
DTSTART;TZID=Europe/Paris:20260425T193000
DTEND;TZID=Europe/Paris:20260425T193000
DTSTAMP:20260317T102314Z
URL:https://www.l-agenda.ch/evenements/terreur-4/
SUMMARY:Terreur
DESCRIPTION:Par la troupe de théâtre amateur Les Polyssons (EPFL)
ATTACH;FMTTYPE=image/jpeg:https://www.l-agenda.ch/wp-content/uploads/2026/
 03/Terreur-Polyssons.png
CATEGORIES:Théâtre
LOCATION:UNIL - Vortex\, Route de Praz-Véguey 29\, Chavannes-près-Renens\
 , VD\, 1022\, Ouest lausannois\, Suisse
GEO:46.524381;6.575189
X-APPLE-STRUCTURED-LOCATION;VALUE=URI;X-ADDRESS=Route de Praz-Véguey 29\, 
 Chavannes-près-Renens\, VD\, 1022\, Ouest lausannois\, Suisse;X-APPLE-RAD
 IUS=100;X-TITLE=UNIL - Vortex:geo:46.524381,6.575189
END:VEVENT
BEGIN:VTIMEZONE
TZID:Europe/Paris
X-LIC-LOCATION:Europe/Paris
BEGIN:DAYLIGHT
DTSTART:20260329T030000
TZOFFSETFROM:+0100
TZOFFSETTO:+0200
TZNAME:CEST
END:DAYLIGHT
END:VTIMEZONE
END:VCALENDAR