BEGIN:VCALENDAR
VERSION:2.0
PRODID:-//wp-events-plugin.com//7.2.3.1//EN
TZID:Europe/Paris
X-WR-TIMEZONE:Europe/Paris
BEGIN:VEVENT
UID:120475@l-agenda.ch
DTSTART;TZID=Europe/Paris:20260405T173000
DTEND;TZID=Europe/Paris:20260405T173000
DTSTAMP:20260317T102253Z
URL:https://www.l-agenda.ch/evenements/terreur-3/
SUMMARY:Terreur
DESCRIPTION:Par la troupe de théâtre amateur Les Polyssons (EPFL)
ATTACH;FMTTYPE=image/jpeg:https://www.l-agenda.ch/wp-content/uploads/2026/
 03/Terreur-Polyssons.png
CATEGORIES:Théâtre
LOCATION:EPFL - Salle polyvalente\, Bâtiment CE\, Ecublens\, VD\, 1015\, O
 uest lausannois\, Suisse
GEO:46.520499;6.570066
X-APPLE-STRUCTURED-LOCATION;VALUE=URI;X-ADDRESS=Bâtiment CE\, Ecublens\, V
 D\, 1015\, Ouest lausannois\, Suisse;X-APPLE-RADIUS=100;X-TITLE=EPFL - Sal
 le polyvalente:geo:46.520499,6.570066
END:VEVENT
BEGIN:VTIMEZONE
TZID:Europe/Paris
X-LIC-LOCATION:Europe/Paris
BEGIN:DAYLIGHT
DTSTART:20260329T030000
TZOFFSETFROM:+0100
TZOFFSETTO:+0200
TZNAME:CEST
END:DAYLIGHT
END:VTIMEZONE
END:VCALENDAR