BEGIN:VCALENDAR
VERSION:2.0
PRODID:-//wp-events-plugin.com//7.2.3.1//EN
TZID:Europe/Paris
X-WR-TIMEZONE:Europe/Paris
BEGIN:VEVENT
UID:115497@l-agenda.ch
DTSTART;TZID=Europe/Paris:20250707T183000
DTEND;TZID=Europe/Paris:20250707T183000
DTSTAMP:20250521T162541Z
URL:https://www.l-agenda.ch/evenements/terpsycordes-friends-2025-07-07/
SUMMARY:Terpsycordes & friends
DESCRIPTION:Janáček et Enesco
ATTACH;FMTTYPE=image/jpeg:https://www.l-agenda.ch/wp-content/uploads/2025/
 05/Terpsycordes-Friends.png
CATEGORIES:Classique,Orchestre | Ensemble | Instrument | Chambre
LOCATION:Église Saint-Germain\, Rue des Granges 11\, Genève\, GE\, 1204\,
  Genève\, Suisse
GEO:46.201513;6.14573
X-APPLE-STRUCTURED-LOCATION;VALUE=URI;X-ADDRESS=Rue des Granges 11\, Genèv
 e\, GE\, 1204\, Genève\, Suisse;X-APPLE-RADIUS=100;X-TITLE=Église Saint-
 Germain:geo:46.201513,6.14573
END:VEVENT
BEGIN:VTIMEZONE
TZID:Europe/Paris
X-LIC-LOCATION:Europe/Paris
BEGIN:DAYLIGHT
DTSTART:20250330T030000
TZOFFSETFROM:+0100
TZOFFSETTO:+0200
TZNAME:CEST
END:DAYLIGHT
END:VTIMEZONE
END:VCALENDAR