BEGIN:VCALENDAR
VERSION:2.0
PRODID:-//wp-events-plugin.com//7.2.3.1//EN
TZID:Europe/Paris
X-WR-TIMEZONE:Europe/Paris
BEGIN:VEVENT
UID:120491@l-agenda.ch
DTSTART;TZID=Europe/Paris:20260530T200000
DTEND;TZID=Europe/Paris:20260530T200000
DTSTAMP:20260322T163208Z
URL:https://www.l-agenda.ch/evenements/ten-sing-geneve/
SUMMARY:Ten Sing Genève
DESCRIPTION:Chorale amateur au répertoire francophone actuel
ATTACH;FMTTYPE=image/jpeg:https://www.l-agenda.ch/wp-content/uploads/2026/
 03/Ten-Sing-Geneve.jpeg
CATEGORIES:Musique actuelle,Pop | Folk | Chanson
LOCATION:Point Favre\, Avenue F.-A. Grison 6\, Chêne-Bourg\, GE\, 1225\, G
 enève\, Suisse
GEO:46.194863;6.194406
X-APPLE-STRUCTURED-LOCATION;VALUE=URI;X-ADDRESS=Avenue F.-A. Grison 6\, Ch
 êne-Bourg\, GE\, 1225\, Genève\, Suisse;X-APPLE-RADIUS=100;X-TITLE=Point
  Favre:geo:46.194863,6.194406
END:VEVENT
BEGIN:VTIMEZONE
TZID:Europe/Paris
X-LIC-LOCATION:Europe/Paris
BEGIN:DAYLIGHT
DTSTART:20260329T030000
TZOFFSETFROM:+0100
TZOFFSETTO:+0200
TZNAME:CEST
END:DAYLIGHT
END:VTIMEZONE
END:VCALENDAR