BEGIN:VCALENDAR
VERSION:2.0
PRODID:-//wp-events-plugin.com//7.2.3.1//EN
TZID:Europe/Paris
X-WR-TIMEZONE:Europe/Paris
BEGIN:VEVENT
UID:106135@l-agenda.ch
DTSTART;TZID=Europe/Paris:20240502T203000
DTEND;TZID=Europe/Paris:20240502T203000
DTSTAMP:20240322T153906Z
URL:https://www.l-agenda.ch/evenements/tanguy-pastureau-rode/
SUMMARY:Tanguy Pastureau - Rôde
DESCRIPTION:Seul en scène humoristique
ATTACH;FMTTYPE=image/jpeg:https://www.l-agenda.ch/wp-content/uploads/2024/
 03/d9682679-8b56-4df2-a5cb-f57c27f93247.jpg
CATEGORIES:Improvisation | Humour | Stand-up,Théâtre
LOCATION:Théâtre les Salons\, Rue J. F. Bartholoni 6\, Genève\, GE\, 120
 4\, Suisse
GEO:46.200165;6.141756
X-APPLE-STRUCTURED-LOCATION;VALUE=URI;X-ADDRESS=Rue J. F. Bartholoni 6\, Ge
 nève\, GE\, 1204\, Suisse;X-APPLE-RADIUS=100;X-TITLE=Théâtre les Salons
 :geo:46.200165,6.141756
END:VEVENT
BEGIN:VTIMEZONE
TZID:Europe/Paris
X-LIC-LOCATION:Europe/Paris
BEGIN:DAYLIGHT
DTSTART:20240331T030000
TZOFFSETFROM:+0100
TZOFFSETTO:+0200
TZNAME:CEST
END:DAYLIGHT
END:VTIMEZONE
END:VCALENDAR