BEGIN:VCALENDAR
VERSION:2.0
PRODID:-//wp-events-plugin.com//7.2.3.1//EN
TZID:Europe/Paris
X-WR-TIMEZONE:Europe/Paris
BEGIN:VEVENT
UID:106785@l-agenda.ch
DTSTART;TZID=Europe/Paris;VALUE=DATE:20240622
DTEND;TZID=Europe/Paris;VALUE=DATE:20240930
DTSTAMP:20240401T190555Z
URL:https://www.l-agenda.ch/evenements/tamara-janes-set-and-setting/
SUMMARY:Tamara Janes - Set and Setting
DESCRIPTION:Réappropriation d'images de la haute culture et de la culture 
 populaire
ATTACH;FMTTYPE=image/jpeg:https://www.l-agenda.ch/wp-content/uploads/2024/
 03/Tamara_Janes_IMG01_Copyright-Swap-_02-Folder-Hair-scaled-1.jpg
CATEGORIES:Exposition temporaire
LOCATION:Plateforme 10 - Photo Élysée\, Avenue de la Gare 17\, Lausanne\,
  VD\, 1003\, Lausanne\, Suisse
GEO:46.516531;6.636603
X-APPLE-STRUCTURED-LOCATION;VALUE=URI;X-ADDRESS=Avenue de la Gare 17\, Laus
 anne\, VD\, 1003\, Lausanne\, Suisse;X-APPLE-RADIUS=100;X-TITLE=Plateforme
  10 - Photo Élysée:geo:46.516531,6.636603
END:VEVENT
BEGIN:VTIMEZONE
TZID:Europe/Paris
X-LIC-LOCATION:Europe/Paris
BEGIN:DAYLIGHT
DTSTART:20240331T030000
TZOFFSETFROM:+0100
TZOFFSETTO:+0200
TZNAME:CEST
END:DAYLIGHT
END:VTIMEZONE
END:VCALENDAR