BEGIN:VCALENDAR
VERSION:2.0
PRODID:-//wp-events-plugin.com//7.2.3.1//EN
TZID:Europe/Paris
X-WR-TIMEZONE:Europe/Paris
BEGIN:VEVENT
UID:118294@l-agenda.ch
DTSTART;TZID=Europe/Paris:20260128T150000
DTEND;TZID=Europe/Paris:20260208T170000
DTSTAMP:20251023T112632Z
URL:https://www.l-agenda.ch/event-recurring/sur-les-pas-doodaaq/
SUMMARY:Sur les pas d'Oodaaq
DESCRIPTION:Parcours initiatique d’un petit être avide de trouver sa voi
 e. Dès 6 ans
ATTACH;FMTTYPE=image/jpeg:https://www.l-agenda.ch/wp-content/uploads/2025/
 10/Oodaaq.jpg
CATEGORIES:Jeune public,Marionnettes,Théâtre
LOCATION:Théâtre des Marionnettes de Genève\, Rue Rodo 3\, Genève\, GE\
 , 1211\, Genève\, Suisse
GEO:46.193242;6.14079
X-APPLE-STRUCTURED-LOCATION;VALUE=URI;X-ADDRESS=Rue Rodo 3\, Genève\, GE\,
  1211\, Genève\, Suisse;X-APPLE-RADIUS=100;X-TITLE=Théâtre des Marionne
 ttes de Genève:geo:46.193242,6.14079
END:VEVENT
BEGIN:VTIMEZONE
TZID:Europe/Paris
X-LIC-LOCATION:Europe/Paris
BEGIN:STANDARD
DTSTART:20251026T020000
TZOFFSETFROM:+0200
TZOFFSETTO:+0100
TZNAME:CET
END:STANDARD
END:VTIMEZONE
END:VCALENDAR