BEGIN:VCALENDAR
VERSION:2.0
PRODID:-//wp-events-plugin.com//7.2.3.1//EN
TZID:Europe/Paris
X-WR-TIMEZONE:Europe/Paris
BEGIN:VEVENT
UID:112360@l-agenda.ch
DTSTART;TZID=Europe/Paris:20250404T200000
DTEND;TZID=Europe/Paris:20250404T200000
DTSTAMP:20241227T104116Z
URL:https://www.l-agenda.ch/evenements/stephanie-huang-arthur-hinnewinkel-
 2025-04-04/
SUMMARY:Stéphanie Huang & Arthur Hinnewinkel
DESCRIPTION:Nadia et Lili Boulanger\, Debussy\, Fauré\, Robert Schumann\, 
 Beethoven
ATTACH;FMTTYPE=image/jpeg:https://www.l-agenda.ch/wp-content/uploads/2024/
 12/Stephanie-Huand-et-Arthur-Hinnewinkel.webp
CATEGORIES:Classique,Orchestre | Ensemble | Instrument | Chambre
LOCATION:Millennium\, Chemin de Mongevon 25\, Lausanne - Crissier\, VD\, 10
 23\, Lausanne\, Suisse
GEO:46.549717;6.569938
X-APPLE-STRUCTURED-LOCATION;VALUE=URI;X-ADDRESS=Chemin de Mongevon 25\, Lau
 sanne - Crissier\, VD\, 1023\, Lausanne\, Suisse;X-APPLE-RADIUS=100;X-TITL
 E=Millennium:geo:46.549717,6.569938
END:VEVENT
BEGIN:VTIMEZONE
TZID:Europe/Paris
X-LIC-LOCATION:Europe/Paris
BEGIN:DAYLIGHT
DTSTART:20250330T030000
TZOFFSETFROM:+0100
TZOFFSETTO:+0200
TZNAME:CEST
END:DAYLIGHT
END:VTIMEZONE
END:VCALENDAR