BEGIN:VCALENDAR
VERSION:2.0
PRODID:-//wp-events-plugin.com//7.2.3.1//EN
TZID:Europe/Paris
X-WR-TIMEZONE:Europe/Paris
BEGIN:VEVENT
UID:114996@l-agenda.ch
DTSTART;TZID=Europe/Paris:20250330T193000
DTEND;TZID=Europe/Paris:20250330T193000
DTSTAMP:20250321T165047Z
URL:https://www.l-agenda.ch/evenements/stella-cole-2025-03-30/
SUMMARY:Stella Cole
DESCRIPTION:Jazz vocal\, standards
ATTACH;FMTTYPE=image/jpeg:https://www.l-agenda.ch/wp-content/uploads/2025/
 03/Stella-Cole.jpg
CATEGORIES:Jazz | Swing | Blues,Musique actuelle
LOCATION:Alhambra\, Rue de la Rôtisserie 10\, Genève\, GE\, 1204\, Genèv
 e\, Suisse
GEO:46.202602;6.146651
X-APPLE-STRUCTURED-LOCATION;VALUE=URI;X-ADDRESS=Rue de la Rôtisserie 10\, 
 Genève\, GE\, 1204\, Genève\, Suisse;X-APPLE-RADIUS=100;X-TITLE=Alhambra
 :geo:46.202602,6.146651
END:VEVENT
BEGIN:VTIMEZONE
TZID:Europe/Paris
X-LIC-LOCATION:Europe/Paris
BEGIN:DAYLIGHT
DTSTART:20250330T030000
TZOFFSETFROM:+0100
TZOFFSETTO:+0200
TZNAME:CEST
END:DAYLIGHT
END:VTIMEZONE
END:VCALENDAR