BEGIN:VCALENDAR
VERSION:2.0
PRODID:-//wp-events-plugin.com//7.2.3.1//EN
TZID:Europe/Paris
X-WR-TIMEZONE:Europe/Paris
BEGIN:VEVENT
UID:119788@l-agenda.ch
DTSTART;TZID=Europe/Paris:20260129T201500
DTEND;TZID=Europe/Paris:20260129T201500
DTSTAMP:20260130T114534Z
URL:https://www.l-agenda.ch/evenements/sons-celestes/
SUMMARY:Sons célestes
DESCRIPTION:Concert en mémoire des victimes du drame de Crans-Montana\, pa
 r l’HEMU et l’Orchestre de chambre fribourgeois
ATTACH;FMTTYPE=image/jpeg:https://www.l-agenda.ch/wp-content/uploads/2026/
 01/Sons-celestes.jpg
CATEGORIES:Classique,Orchestre | Ensemble | Instrument | Chambre
LOCATION:Rosey Concert Hall\, Institut Le Rosey\, Rolle\, VD\, 1180\, Nyon\
 , Suisse
GEO:46.459962;6.331803
X-APPLE-STRUCTURED-LOCATION;VALUE=URI;X-ADDRESS=Institut Le Rosey\, Rolle\,
  VD\, 1180\, Nyon\, Suisse;X-APPLE-RADIUS=100;X-TITLE=Rosey Concert Hall:g
 eo:46.459962,6.331803
END:VEVENT
BEGIN:VTIMEZONE
TZID:Europe/Paris
X-LIC-LOCATION:Europe/Paris
BEGIN:STANDARD
DTSTART:20251026T020000
TZOFFSETFROM:+0200
TZOFFSETTO:+0100
TZNAME:CET
END:STANDARD
END:VTIMEZONE
END:VCALENDAR