BEGIN:VCALENDAR
VERSION:2.0
PRODID:-//wp-events-plugin.com//7.2.3.1//EN
TZID:Europe/Paris
X-WR-TIMEZONE:Europe/Paris
BEGIN:VEVENT
UID:116176@l-agenda.ch
DTSTART;TZID=Europe/Paris:20250821T180000
DTEND;TZID=Europe/Paris:20250821T180000
DTSTAMP:20250707T112509Z
URL:https://www.l-agenda.ch/evenements/sonia-mazza/
SUMMARY:Sonia Mazza
DESCRIPTION:Pop
ATTACH;FMTTYPE=image/jpeg:https://www.l-agenda.ch/wp-content/uploads/2024/
 08/Sonia-Mazza-e1751887488765.jpg
CATEGORIES:Musique actuelle,Pop | Folk | Chanson
LOCATION:Château de La Sarraz\, Château\, La Sarraz\, VD\, 1315\, Morges\
 , Suisse
GEO:46.659471;6.513928
X-APPLE-STRUCTURED-LOCATION;VALUE=URI;X-ADDRESS=Château\, La Sarraz\, VD\,
  1315\, Morges\, Suisse;X-APPLE-RADIUS=100;X-TITLE=Château de La Sarraz:g
 eo:46.659471,6.513928
END:VEVENT
BEGIN:VTIMEZONE
TZID:Europe/Paris
X-LIC-LOCATION:Europe/Paris
BEGIN:DAYLIGHT
DTSTART:20250330T030000
TZOFFSETFROM:+0100
TZOFFSETTO:+0200
TZNAME:CEST
END:DAYLIGHT
END:VTIMEZONE
END:VCALENDAR