BEGIN:VCALENDAR
VERSION:2.0
PRODID:-//wp-events-plugin.com//7.2.3.1//EN
TZID:Europe/Paris
X-WR-TIMEZONE:Europe/Paris
BEGIN:VEVENT
UID:111486@l-agenda.ch
DTSTART;TZID=Europe/Paris:20250129T200000
DTEND;TZID=Europe/Paris:20250129T200000
DTSTAMP:20241119T085631Z
URL:https://www.l-agenda.ch/evenements/soiree-hommage-a-pierre-naftule-202
 5-01-29/
SUMMARY:Soirée hommage à Pierre Naftule
DESCRIPTION:Revisite des sketch de l'humoriste genevois par  Thomas Wiesel
 \, Joseph Gorgoni et d'autres
ATTACH;FMTTYPE=image/jpeg:https://www.l-agenda.ch/wp-content/uploads/2024/
 11/Pierre-Naftule.jpg
CATEGORIES:Improvisation | Humour | Stand-up,Théâtre
LOCATION:Pavillon Naftule\, Place Bellerive\, Lausanne\, VD\, 1007\, Lausan
 ne\, Suisse
GEO:46.511706;6.616739
X-APPLE-STRUCTURED-LOCATION;VALUE=URI;X-ADDRESS=Place Bellerive\, Lausanne\
 , VD\, 1007\, Lausanne\, Suisse;X-APPLE-RADIUS=100;X-TITLE=Pavillon Naftul
 e:geo:46.511706,6.616739
END:VEVENT
BEGIN:VTIMEZONE
TZID:Europe/Paris
X-LIC-LOCATION:Europe/Paris
BEGIN:STANDARD
DTSTART:20241027T020000
TZOFFSETFROM:+0200
TZOFFSETTO:+0100
TZNAME:CET
END:STANDARD
END:VTIMEZONE
END:VCALENDAR