BEGIN:VCALENDAR
VERSION:2.0
PRODID:-//wp-events-plugin.com//7.2.3.1//EN
TZID:Europe/Paris
X-WR-TIMEZONE:Europe/Paris
BEGIN:VEVENT
UID:105839@l-agenda.ch
DTSTART;TZID=Europe/Paris:20240525T200000
DTEND;TZID=Europe/Paris:20240525T200000
DTSTAMP:20240313T165327Z
URL:https://www.l-agenda.ch/evenements/snatch/
SUMMARY:Snatch
DESCRIPTION:Sur l'élan\, l'énergie collective
CATEGORIES:Danse,Danse contemporaine | Néo-classique
LOCATION:L'Arande\, Grande Rue 14\, Saint-Julien-en-Genevois\, France\, 741
 60\, France\, Suisse
GEO:46.143274;6.080734
X-APPLE-STRUCTURED-LOCATION;VALUE=URI;X-ADDRESS=Grande Rue 14\, Saint-Julie
 n-en-Genevois\, France\, 74160\, France\, Suisse;X-APPLE-RADIUS=100;X-TITL
 E=L'Arande:geo:46.143274,6.080734
END:VEVENT
BEGIN:VTIMEZONE
TZID:Europe/Paris
X-LIC-LOCATION:Europe/Paris
BEGIN:DAYLIGHT
DTSTART:20240331T030000
TZOFFSETFROM:+0100
TZOFFSETTO:+0200
TZNAME:CEST
END:DAYLIGHT
END:VTIMEZONE
END:VCALENDAR