BEGIN:VCALENDAR
VERSION:2.0
PRODID:-//wp-events-plugin.com//7.2.3.1//EN
TZID:Europe/Paris
X-WR-TIMEZONE:Europe/Paris
BEGIN:VEVENT
UID:111484@l-agenda.ch
DTSTART;TZID=Europe/Paris:20260424T200000
DTEND;TZID=Europe/Paris:20260424T200000
DTSTAMP:20260214T105522Z
URL:https://www.l-agenda.ch/evenements/simon-romang-poussette-3/
SUMMARY:Simon Romang - Planchette
DESCRIPTION:Stand-up autour de l'apéro et la bonne bouffe
ATTACH;FMTTYPE=image/jpeg:https://www.l-agenda.ch/wp-content/uploads/2024/
 11/Simon-Romang.webp
CATEGORIES:Improvisation | Humour | Stand-up,Théâtre
LOCATION:Salle Grand-Salève\, Route de Veyrier 265\, Veyrier\, GE\, 1255\,
  Genève\, Suisse
GEO:46.167822;6.18396
X-APPLE-STRUCTURED-LOCATION;VALUE=URI;X-ADDRESS=Route de Veyrier 265\, Veyr
 ier\, GE\, 1255\, Genève\, Suisse;X-APPLE-RADIUS=100;X-TITLE=Salle Grand-
 Salève:geo:46.167822,6.18396
END:VEVENT
BEGIN:VTIMEZONE
TZID:Europe/Paris
X-LIC-LOCATION:Europe/Paris
BEGIN:DAYLIGHT
DTSTART:20260329T030000
TZOFFSETFROM:+0100
TZOFFSETTO:+0200
TZNAME:CEST
END:DAYLIGHT
END:VTIMEZONE
END:VCALENDAR