BEGIN:VCALENDAR
VERSION:2.0
PRODID:-//wp-events-plugin.com//7.2.3.1//EN
TZID:Europe/Paris
X-WR-TIMEZONE:Europe/Paris
BEGIN:VEVENT
UID:114315@l-agenda.ch
DTSTART;TZID=Europe/Paris:20260809T173000
DTEND;TZID=Europe/Paris:20260809T173000
DTSTAMP:20260219T192032Z
URL:https://www.l-agenda.ch/evenements/semaine-internationale-piano-et-mus
 ique-de-chambre-fantaisies/
SUMMARY:Semaine Internationale Piano et musique de chambre - Récital de cl
 avecin
DESCRIPTION:Oeuvres de Haendel\, Scarlatti\, Frescobali\, Rameau\, Bach\, L
 ouis et François Couperin
ATTACH;FMTTYPE=image/jpeg:https://www.l-agenda.ch/wp-content/uploads/2025/
 02/Recital-de-clavecin.jpg
CATEGORIES:Classique,Festival,Orchestre | Ensemble | Instrument | Chambre
LOCATION:Église de la Chiésaz\, Chemin de l'Église\, Saint-Légier-La Ch
 iésaz\, VD\, 1806\, Riviera\, Suisse
GEO:46.471486;6.884091
X-APPLE-STRUCTURED-LOCATION;VALUE=URI;X-ADDRESS=Chemin de l'Église\, Saint
 -Légier-La Chiésaz\, VD\, 1806\, Riviera\, Suisse;X-APPLE-RADIUS=100;X-T
 ITLE=Église de la Chiésaz:geo:46.471486,6.884091
END:VEVENT
BEGIN:VTIMEZONE
TZID:Europe/Paris
X-LIC-LOCATION:Europe/Paris
BEGIN:DAYLIGHT
DTSTART:20260329T030000
TZOFFSETFROM:+0100
TZOFFSETTO:+0200
TZNAME:CEST
END:DAYLIGHT
END:VTIMEZONE
END:VCALENDAR