BEGIN:VCALENDAR
VERSION:2.0
PRODID:-//wp-events-plugin.com//7.2.3.1//EN
TZID:Europe/Paris
X-WR-TIMEZONE:Europe/Paris
BEGIN:VEVENT
UID:119512@l-agenda.ch
DTSTART;TZID=Europe/Paris:20260215T180000
DTEND;TZID=Europe/Paris:20260215T180000
DTSTAMP:20251223T155253Z
URL:https://www.l-agenda.ch/evenements/sarclo-de-linfluence-de-dylan-sur-l
 a-chanson-francaise-de-qualite-suisse-2026-02-15/
SUMMARY:Sarclo - De l'influence de Dylan sur la chanson française de quali
 té suisse
DESCRIPTION:Conférence chantée
ATTACH;FMTTYPE=image/jpeg:https://www.l-agenda.ch/wp-content/uploads/2025/
 12/sarclo.jpg
CATEGORIES:Musique actuelle,Pop | Folk | Chanson
LOCATION:Théâtricul\, Rue de Genève 64\, Chêne-Bourg\, GE\, 1225\, Gen
 ève\, Suisse
GEO:46.193652;6.196978
X-APPLE-STRUCTURED-LOCATION;VALUE=URI;X-ADDRESS=Rue de Genève 64\, Chêne-
 Bourg\, GE\, 1225\, Genève\, Suisse;X-APPLE-RADIUS=100;X-TITLE=Théâtric
 ul:geo:46.193652,6.196978
END:VEVENT
BEGIN:VTIMEZONE
TZID:Europe/Paris
X-LIC-LOCATION:Europe/Paris
BEGIN:STANDARD
DTSTART:20251026T020000
TZOFFSETFROM:+0200
TZOFFSETTO:+0100
TZNAME:CET
END:STANDARD
END:VTIMEZONE
END:VCALENDAR