BEGIN:VCALENDAR
VERSION:2.0
PRODID:-//wp-events-plugin.com//7.2.3.1//EN
TZID:Europe/Paris
X-WR-TIMEZONE:Europe/Paris
BEGIN:VEVENT
UID:116168@l-agenda.ch
DTSTART;TZID=Europe/Paris:20250803T150000
DTEND;TZID=Europe/Paris:20250803T150000
DTSTAMP:20250707T104527Z
URL:https://www.l-agenda.ch/evenements/saint-huber-ephemere/
SUMMARY:Saint Huber / Ephémère
DESCRIPTION:Chansons pour tout le monde / Soul\, rock\, blues\, jazz\, pop
CATEGORIES:Musique actuelle,Pop | Folk | Chanson,Rock | Metal | Punk,Soul
 | R'n'B
LOCATION:La Dérivée\, Quai de Nogent 6\, Yverdon-les-Bains\, VD\, 1400\, 
 Suisse
GEO:46.786597;6.640375
X-APPLE-STRUCTURED-LOCATION;VALUE=URI;X-ADDRESS=Quai de Nogent 6\, Yverdon-
 les-Bains\, VD\, 1400\, Suisse;X-APPLE-RADIUS=100;X-TITLE=La Dérivée:geo
 :46.786597,6.640375
END:VEVENT
BEGIN:VTIMEZONE
TZID:Europe/Paris
X-LIC-LOCATION:Europe/Paris
BEGIN:DAYLIGHT
DTSTART:20250330T030000
TZOFFSETFROM:+0100
TZOFFSETTO:+0200
TZNAME:CEST
END:DAYLIGHT
END:VTIMEZONE
END:VCALENDAR