BEGIN:VCALENDAR
VERSION:2.0
PRODID:-//wp-events-plugin.com//7.2.3.1//EN
TZID:Europe/Paris
X-WR-TIMEZONE:Europe/Paris
BEGIN:VEVENT
UID:106784@l-agenda.ch
DTSTART;TZID=Europe/Paris;VALUE=DATE:20240622
DTEND;TZID=Europe/Paris;VALUE=DATE:20250224
DTSTAMP:20241104T094939Z
URL:https://www.l-agenda.ch/evenements/sabine-weiss-nathalie-boutte-hommag
 e/
SUMMARY:Sabine Weiss & Nathalie Boutté - Hommage
DESCRIPTION:Dialogue à l'occasion du centenaire de la photographe
ATTACH;FMTTYPE=image/jpeg:https://www.l-agenda.ch/wp-content/uploads/2024/
 03/Sabine-Weiss-1953-©-Sabine-Weiss-Collection-Photo-Elysee-scaled-1.jpg
CATEGORIES:Exposition temporaire
LOCATION:Plateforme 10 - Photo Élysée\, Avenue de la Gare 17\, Lausanne\,
  VD\, 1003\, Lausanne\, Suisse
GEO:46.516531;6.636603
X-APPLE-STRUCTURED-LOCATION;VALUE=URI;X-ADDRESS=Avenue de la Gare 17\, Laus
 anne\, VD\, 1003\, Lausanne\, Suisse;X-APPLE-RADIUS=100;X-TITLE=Plateforme
  10 - Photo Élysée:geo:46.516531,6.636603
END:VEVENT
BEGIN:VTIMEZONE
TZID:Europe/Paris
X-LIC-LOCATION:Europe/Paris
BEGIN:DAYLIGHT
DTSTART:20240331T030000
TZOFFSETFROM:+0100
TZOFFSETTO:+0200
TZNAME:CEST
END:DAYLIGHT
BEGIN:STANDARD
DTSTART:20241027T020000
TZOFFSETFROM:+0200
TZOFFSETTO:+0100
TZNAME:CET
END:STANDARD
END:VTIMEZONE
END:VCALENDAR