BEGIN:VCALENDAR
VERSION:2.0
PRODID:-//wp-events-plugin.com//7.2.3.1//EN
TZID:Europe/Paris
X-WR-TIMEZONE:Europe/Paris
BEGIN:VEVENT
UID:90155@l-agenda.ch
DTSTART;TZID=Europe/Paris:20230208T000000
DTEND;TZID=Europe/Paris:20230218T000000
DTSTAMP:20221127T114616Z
URL:https://www.l-agenda.ch/event-recurring/rien-ne-me-separe-de-la-merde-
 qui-mentoure/
SUMMARY:Rien ne me sépare de la merde qui m’entoure
DESCRIPTION:Manifeste politique et poétique
ATTACH;FMTTYPE=image/jpeg:https://www.l-agenda.ch/wp-content/uploads/2022/
 11/rien-ne-me-separe.jpg
CATEGORIES:Théâtre
LOCATION:L'Étincelle - MQJ\, Avenue de Sainte-Clotilde 18bis\, Genève\, G
 E\, 1205\, Suisse
GEO:46.199847;6.13306
X-APPLE-STRUCTURED-LOCATION;VALUE=URI;X-ADDRESS=Avenue de Sainte-Clotilde 1
 8bis\, Genève\, GE\, 1205\, Suisse;X-APPLE-RADIUS=100;X-TITLE=L'Étincell
 e - MQJ:geo:46.199847,6.13306
END:VEVENT
BEGIN:VTIMEZONE
TZID:Europe/Paris
X-LIC-LOCATION:Europe/Paris
BEGIN:STANDARD
DTSTART:20221030T020000
TZOFFSETFROM:+0200
TZOFFSETTO:+0100
TZNAME:CET
END:STANDARD
END:VTIMEZONE
END:VCALENDAR