BEGIN:VCALENDAR
VERSION:2.0
PRODID:-//wp-events-plugin.com//7.2.3.1//EN
TZID:Europe/Paris
X-WR-TIMEZONE:Europe/Paris
BEGIN:VEVENT
UID:103791@l-agenda.ch
DTSTART;TZID=Europe/Paris:20240420T200000
DTEND;TZID=Europe/Paris:20240420T200000
DTSTAMP:20240114T143351Z
URL:https://www.l-agenda.ch/evenements/rictus-impra-vs-heidi/
SUMMARY:Rictus Impra vs Heidi
DESCRIPTION:Match d'impro 
CATEGORIES:Théâtre,Improvisation | Humour | Stand-up
LOCATION:Le Cazard\, Rue Pré-du-Marché 15\, Lausanne\, VD\, 1004\, Lausan
 ne\, Suisse
GEO:46.524079;6.629583
X-APPLE-STRUCTURED-LOCATION;VALUE=URI;X-ADDRESS=Rue Pré-du-Marché 15\, La
 usanne\, VD\, 1004\, Lausanne\, Suisse;X-APPLE-RADIUS=100;X-TITLE=Le Cazar
 d:geo:46.524079,6.629583
END:VEVENT
BEGIN:VTIMEZONE
TZID:Europe/Paris
X-LIC-LOCATION:Europe/Paris
BEGIN:DAYLIGHT
DTSTART:20240331T030000
TZOFFSETFROM:+0100
TZOFFSETTO:+0200
TZNAME:CEST
END:DAYLIGHT
END:VTIMEZONE
END:VCALENDAR