BEGIN:VCALENDAR
VERSION:2.0
PRODID:-//wp-events-plugin.com//7.2.3.1//EN
TZID:Europe/Paris
X-WR-TIMEZONE:Europe/Paris
BEGIN:VEVENT
UID:118480@l-agenda.ch
DTSTART;TZID=Europe/Paris:20260611T200000
DTEND;TZID=Europe/Paris:20260611T200000
DTSTAMP:20251027T181919Z
URL:https://www.l-agenda.ch/evenements/retour-aux-sources-gitanes/
SUMMARY:Retour aux sources gitanes
DESCRIPTION:Musique tzigane
ATTACH;FMTTYPE=image/jpeg:https://www.l-agenda.ch/wp-content/uploads/2025/
 10/RETOUR-AUX-SOURCES-GITANES.avif
CATEGORIES:Musique actuelle,Musique traditionnelle
LOCATION:Espace Vélodrome\, Chemin de la Mère Voie 60\, Plan-les-Ouates\,
  GE\, 1228\, Suisse
GEO:46.170601;6.113249
X-APPLE-STRUCTURED-LOCATION;VALUE=URI;X-ADDRESS=Chemin de la Mère Voie 60\
 , Plan-les-Ouates\, GE\, 1228\, Suisse;X-APPLE-RADIUS=100;X-TITLE=Espace V
 élodrome:geo:46.170601,6.113249
END:VEVENT
BEGIN:VTIMEZONE
TZID:Europe/Paris
X-LIC-LOCATION:Europe/Paris
BEGIN:DAYLIGHT
DTSTART:20260329T030000
TZOFFSETFROM:+0100
TZOFFSETTO:+0200
TZNAME:CEST
END:DAYLIGHT
END:VTIMEZONE
END:VCALENDAR