BEGIN:VCALENDAR
VERSION:2.0
PRODID:-//wp-events-plugin.com//7.2.3.1//EN
TZID:Europe/Paris
X-WR-TIMEZONE:Europe/Paris
BEGIN:VEVENT
UID:114469@l-agenda.ch
DTSTART;TZID=Europe/Paris:20250308T110000
DTEND;TZID=Europe/Paris:20250308T110000
DTSTAMP:20250224T145642Z
URL:https://www.l-agenda.ch/evenements/rencontre-projection-avec-jean-duja
 rdin/
SUMMARY:Rencontre-projection avec Jean Dujardin
DESCRIPTION:Autour du film "Sur les chemins noirs"
ATTACH;FMTTYPE=image/jpeg:https://www.l-agenda.ch/wp-content/uploads/2025/
 02/Rencontre-projection-avec-Jean-Dujardin.jpg
CATEGORIES:Conférence | Rencontre,Projection | Film
LOCATION:Fondation Jan Michalski\, En Bois Désert 10\, Montricher\, VD\, 1
 147\, Morges\, Suisse
GEO:46.607957;6.377522
X-APPLE-STRUCTURED-LOCATION;VALUE=URI;X-ADDRESS=En Bois Désert 10\, Montri
 cher\, VD\, 1147\, Morges\, Suisse;X-APPLE-RADIUS=100;X-TITLE=Fondation Ja
 n Michalski:geo:46.607957,6.377522
END:VEVENT
BEGIN:VTIMEZONE
TZID:Europe/Paris
X-LIC-LOCATION:Europe/Paris
BEGIN:STANDARD
DTSTART:20241027T020000
TZOFFSETFROM:+0200
TZOFFSETTO:+0100
TZNAME:CET
END:STANDARD
END:VTIMEZONE
END:VCALENDAR