BEGIN:VCALENDAR
VERSION:2.0
PRODID:-//wp-events-plugin.com//7.2.3.1//EN
TZID:Europe/Paris
X-WR-TIMEZONE:Europe/Paris
BEGIN:VEVENT
UID:117191@l-agenda.ch
DTSTART;TZID=Europe/Paris:20251002T200000
DTEND;TZID=Europe/Paris:20251002T200000
DTSTAMP:20250905T142556Z
URL:https://www.l-agenda.ch/evenements/raphaelle-boitel-la-chute-des-anges
 /
SUMMARY:Raphaëlle Boitel – La Chute des Anges
DESCRIPTION:Dystopie poétique. Mât chinois\, acro-danse\, acrobaties aér
 iennes\, théâtre et cinéma
ATTACH;FMTTYPE=image/jpeg:https://www.l-agenda.ch/wp-content/uploads/2025/
 09/La-chute-des-anges.webp
CATEGORIES:Danse,Cirque,Jeune public
LOCATION:Saison Culturelle CO2\, Route de la Ronclina 4\, La Tour-de-Trême
 \, FR\, 1635\, Gruyère\, Suisse
GEO:46.60611;7.05944
X-APPLE-STRUCTURED-LOCATION;VALUE=URI;X-ADDRESS=Route de la Ronclina 4\, La
  Tour-de-Trême\, FR\, 1635\, Gruyère\, Suisse;X-APPLE-RADIUS=100;X-TITLE
 =Saison Culturelle CO2:geo:46.60611,7.05944
END:VEVENT
BEGIN:VTIMEZONE
TZID:Europe/Paris
X-LIC-LOCATION:Europe/Paris
BEGIN:DAYLIGHT
DTSTART:20250330T030000
TZOFFSETFROM:+0100
TZOFFSETTO:+0200
TZNAME:CEST
END:DAYLIGHT
END:VTIMEZONE
END:VCALENDAR