BEGIN:VCALENDAR
VERSION:2.0
PRODID:-//wp-events-plugin.com//7.2.3.1//EN
TZID:Europe/Paris
X-WR-TIMEZONE:Europe/Paris
BEGIN:VEVENT
UID:108708@l-agenda.ch
DTSTART;TZID=Europe/Paris;VALUE=DATE:20241005
DTEND;TZID=Europe/Paris;VALUE=DATE:20241028
DTSTAMP:20240822T170957Z
URL:https://www.l-agenda.ch/evenements/raffaella-bruzzi/
SUMMARY:Raffaella Bruzzi
DESCRIPTION:Mise en lumière d'une artiste
ATTACH;FMTTYPE=image/jpeg:https://www.l-agenda.ch/wp-content/uploads/2024/
 08/Estree.jpg
CATEGORIES:Exposition temporaire
LOCATION:Fondation l'Estrée\, Bourg-Dessous 5\, Ropraz\, VD\, 1088\, Broye
 -Vully\, Suisse
GEO:46.612092;6.756094
X-APPLE-STRUCTURED-LOCATION;VALUE=URI;X-ADDRESS=Bourg-Dessous 5\, Ropraz\, 
 VD\, 1088\, Broye-Vully\, Suisse;X-APPLE-RADIUS=100;X-TITLE=Fondation l'Es
 trée:geo:46.612092,6.756094
END:VEVENT
BEGIN:VTIMEZONE
TZID:Europe/Paris
X-LIC-LOCATION:Europe/Paris
BEGIN:DAYLIGHT
DTSTART:20240331T030000
TZOFFSETFROM:+0100
TZOFFSETTO:+0200
TZNAME:CEST
END:DAYLIGHT
BEGIN:STANDARD
DTSTART:20241027T020000
TZOFFSETFROM:+0200
TZOFFSETTO:+0100
TZNAME:CET
END:STANDARD
END:VTIMEZONE
END:VCALENDAR