BEGIN:VCALENDAR
VERSION:2.0
PRODID:-//wp-events-plugin.com//7.2.3.1//EN
TZID:Europe/Paris
X-WR-TIMEZONE:Europe/Paris
BEGIN:VEVENT
UID:114952@l-agenda.ch
DTSTART;TZID=Europe/Paris:20250503T210000
DTEND;TZID=Europe/Paris:20250503T210000
DTSTAMP:20250321T144146Z
URL:https://www.l-agenda.ch/evenements/quim-roscas-zeca-estacionancio-2025
 -05-03/
SUMMARY:Quim Roscas & Zeca Estacionâncio
DESCRIPTION:Duo musique et improvisation (en portugais)
ATTACH;FMTTYPE=image/jpeg:https://www.l-agenda.ch/wp-content/uploads/2025/
 03/Quim-Roscas-Zeca-Estacionancio.png
CATEGORIES:Improvisation | Humour | Stand-up,Musique actuelle,Pop | Folk |
 Chanson
LOCATION:Bâtiment des Forces Motrices\, Place des Volontaires 2\, Genève\
 , GE\, 1204\, Genève\, Suisse
GEO:46.204654;6.137087
X-APPLE-STRUCTURED-LOCATION;VALUE=URI;X-ADDRESS=Place des Volontaires 2\, G
 enève\, GE\, 1204\, Genève\, Suisse;X-APPLE-RADIUS=100;X-TITLE=Bâtiment
  des Forces Motrices:geo:46.204654,6.137087
END:VEVENT
BEGIN:VTIMEZONE
TZID:Europe/Paris
X-LIC-LOCATION:Europe/Paris
BEGIN:DAYLIGHT
DTSTART:20250330T030000
TZOFFSETFROM:+0100
TZOFFSETTO:+0200
TZNAME:CEST
END:DAYLIGHT
END:VTIMEZONE
END:VCALENDAR