BEGIN:VCALENDAR
VERSION:2.0
PRODID:-//wp-events-plugin.com//7.2.3.1//EN
TZID:Europe/Paris
X-WR-TIMEZONE:Europe/Paris
BEGIN:VEVENT
UID:117478@l-agenda.ch
DTSTART;TZID=Europe/Paris:20260329T173000
DTEND;TZID=Europe/Paris:20260329T173000
DTSTAMP:20250909T154005Z
URL:https://www.l-agenda.ch/evenements/quand-jetais-blanche/
SUMMARY:Quand j'étais blanche
DESCRIPTION:La comédienne et danseuse Fatima Ndoye questionne le métissag
 e et la double nationalité 
ATTACH;FMTTYPE=image/jpeg:https://www.l-agenda.ch/wp-content/uploads/2025/
 09/Quand-jetais-blanche.png
CATEGORIES:Danse,Danse contemporaine | Néo-classique
LOCATION:Théâtre de Grand-Champ\, Chemin de la Serine 2\, Gland\, VD\, 11
 96\, Nyon\, Suisse
GEO:46.42164;6.26049
X-APPLE-STRUCTURED-LOCATION;VALUE=URI;X-ADDRESS=Chemin de la Serine 2\, Gla
 nd\, VD\, 1196\, Nyon\, Suisse;X-APPLE-RADIUS=100;X-TITLE=Théâtre de Gra
 nd-Champ:geo:46.42164,6.26049
END:VEVENT
BEGIN:VTIMEZONE
TZID:Europe/Paris
X-LIC-LOCATION:Europe/Paris
BEGIN:DAYLIGHT
DTSTART:20260329T030000
TZOFFSETFROM:+0100
TZOFFSETTO:+0200
TZNAME:CEST
END:DAYLIGHT
END:VTIMEZONE
END:VCALENDAR