BEGIN:VCALENDAR
VERSION:2.0
PRODID:-//wp-events-plugin.com//7.2.3.1//EN
TZID:Europe/Paris
X-WR-TIMEZONE:Europe/Paris
BEGIN:VEVENT
UID:103800@l-agenda.ch
DTSTART;TZID=Europe/Paris:20240425T200000
DTEND;TZID=Europe/Paris:20240425T200000
DTSTAMP:20240114T154346Z
URL:https://www.l-agenda.ch/evenements/push-5/
SUMMARY:Push
DESCRIPTION:Impro avec interventions du public
CATEGORIES:Improvisation | Humour | Stand-up,Théâtre
LOCATION:CPO\, Chemin de Beau-Rivage 2\, Lausanne\, VD\, 1006\, Lausanne\, 
 Suisse
GEO:46.510964;6.63036
X-APPLE-STRUCTURED-LOCATION;VALUE=URI;X-ADDRESS=Chemin de Beau-Rivage 2\, L
 ausanne\, VD\, 1006\, Lausanne\, Suisse;X-APPLE-RADIUS=100;X-TITLE=CPO:geo
 :46.510964,6.63036
END:VEVENT
BEGIN:VTIMEZONE
TZID:Europe/Paris
X-LIC-LOCATION:Europe/Paris
BEGIN:DAYLIGHT
DTSTART:20240331T030000
TZOFFSETFROM:+0100
TZOFFSETTO:+0200
TZNAME:CEST
END:DAYLIGHT
END:VTIMEZONE
END:VCALENDAR