BEGIN:VCALENDAR
VERSION:2.0
PRODID:-//wp-events-plugin.com//7.2.3.1//EN
TZID:Europe/Paris
X-WR-TIMEZONE:Europe/Paris
BEGIN:VEVENT
UID:108137@l-agenda.ch
DTSTART;TZID=Europe/Paris:20250620T180000
DTEND;TZID=Europe/Paris:20250620T180000
DTSTAMP:20250606T102749Z
URL:https://www.l-agenda.ch/evenements/puplinge-classique-nouvelle-vague/
SUMMARY:Jupîya
DESCRIPTION:Chants populaires du Moyen-Orient
ATTACH;FMTTYPE=image/jpeg:https://www.l-agenda.ch/wp-content/uploads/2024/
 07/Jupiya.avif
CATEGORIES:Classique,Festival,Jazz | Swing | Blues,Orchestre | Ensemble |
 Instrument | Chambre
LOCATION:Église de Puplinge\, Rue de Graman 70\, Puplinge\, GE\, 1241\, Ge
 nève\, Suisse
GEO:46.211086;6.232628
X-APPLE-STRUCTURED-LOCATION;VALUE=URI;X-ADDRESS=Rue de Graman 70\, Puplinge
 \, GE\, 1241\, Genève\, Suisse;X-APPLE-RADIUS=100;X-TITLE=Église de Pupl
 inge:geo:46.211086,6.232628
END:VEVENT
BEGIN:VTIMEZONE
TZID:Europe/Paris
X-LIC-LOCATION:Europe/Paris
BEGIN:DAYLIGHT
DTSTART:20250330T030000
TZOFFSETFROM:+0100
TZOFFSETTO:+0200
TZNAME:CEST
END:DAYLIGHT
END:VTIMEZONE
END:VCALENDAR