BEGIN:VCALENDAR
VERSION:2.0
PRODID:-//wp-events-plugin.com//7.2.3.1//EN
TZID:Europe/Paris
X-WR-TIMEZONE:Europe/Paris
BEGIN:VEVENT
UID:108141@l-agenda.ch
DTSTART;TZID=Europe/Paris:20240901T170000
DTEND;TZID=Europe/Paris:20240901T170000
DTSTAMP:20240731T115508Z
URL:https://www.l-agenda.ch/evenements/puplinge-classique-concert-de-gala-
 15-ans-du-festival/
SUMMARY:Puplinge Classique - Concert de Gala\, 15 ans du festival
DESCRIPTION:Avec l'Orchestre de Chambre National d’Arménie\, l'Orchestre
  des Jeunes de la Suisse Romande et solistes
CATEGORIES:Classique,Festival,Orchestre | Ensemble | Instrument | Chambre
LOCATION:Victoria Hall\, Rue Général-Dufour 14\, Genève\, GE\, 1204\, Ge
 nève\, Suisse
GEO:46.201402;6.141062
X-APPLE-STRUCTURED-LOCATION;VALUE=URI;X-ADDRESS=Rue Général-Dufour 14\, G
 enève\, GE\, 1204\, Genève\, Suisse;X-APPLE-RADIUS=100;X-TITLE=Victoria 
 Hall:geo:46.201402,6.141062
END:VEVENT
BEGIN:VTIMEZONE
TZID:Europe/Paris
X-LIC-LOCATION:Europe/Paris
BEGIN:DAYLIGHT
DTSTART:20240331T030000
TZOFFSETFROM:+0100
TZOFFSETTO:+0200
TZNAME:CEST
END:DAYLIGHT
END:VTIMEZONE
END:VCALENDAR